BEGIN:VCALENDAR
VERSION:2.0
PRODID:-//Les clefs de sol - ECPv5.5.0.1//NONSGML v1.0//EN
CALSCALE:GREGORIAN
METHOD:PUBLISH
X-WR-CALNAME:Les clefs de sol
X-ORIGINAL-URL:https://lesclefsdesol.fr
X-WR-CALDESC:évènements pour Les clefs de sol
BEGIN:VTIMEZONE
TZID:Europe/Paris
BEGIN:DAYLIGHT
TZOFFSETFROM:+0100
TZOFFSETTO:+0200
TZNAME:CEST
DTSTART:20240331T010000
END:DAYLIGHT
BEGIN:STANDARD
TZOFFSETFROM:+0200
TZOFFSETTO:+0100
TZNAME:CET
DTSTART:20241027T010000
END:STANDARD
END:VTIMEZONE
BEGIN:VEVENT
DTSTART;TZID=Europe/Paris:20241124T160000
DTEND;TZID=Europe/Paris:20241124T180000
DTSTAMP:20260419T173120
CREATED:20241112T180948Z
LAST-MODIFIED:20241119T215323Z
UID:2236-1732464000-1732471200@lesclefsdesol.fr
SUMMARY:Concert Harmonie Saint-Marc
DESCRIPTION:
URL:https://lesclefsdesol.fr/event/concert-harmonie-saint-marc/
LOCATION:Saint Congard – salles des fêtes
END:VEVENT
END:VCALENDAR