BEGIN:VCALENDAR
VERSION:2.0
PRODID:-//Les clefs de sol - ECPv5.5.0.1//NONSGML v1.0//EN
CALSCALE:GREGORIAN
METHOD:PUBLISH
X-WR-CALNAME:Les clefs de sol
X-ORIGINAL-URL:https://lesclefsdesol.fr
X-WR-CALDESC:évènements pour Les clefs de sol
BEGIN:VTIMEZONE
TZID:Europe/Paris
BEGIN:DAYLIGHT
TZOFFSETFROM:+0100
TZOFFSETTO:+0200
TZNAME:CEST
DTSTART:20240331T010000
END:DAYLIGHT
BEGIN:STANDARD
TZOFFSETFROM:+0200
TZOFFSETTO:+0100
TZNAME:CET
DTSTART:20241027T010000
END:STANDARD
END:VTIMEZONE
BEGIN:VEVENT
DTSTART;TZID=Europe/Paris:20241116T180000
DTEND;TZID=Europe/Paris:20241116T200000
DTSTAMP:20260421T104942
CREATED:20241114T183946Z
LAST-MODIFIED:20241114T184047Z
UID:2240-1731780000-1731787200@lesclefsdesol.fr
SUMMARY:Concert Quintette & Orgue
DESCRIPTION:
URL:https://lesclefsdesol.fr/event/concert-quintette-orgue/
LOCATION:Vannes – Auditorium des Carmes
END:VEVENT
END:VCALENDAR